BEGIN:VCALENDAR
VERSION:2.0
PRODID:-//Squarespace Inc/Squarespace 6//v6//EN
BEGIN:VEVENT
UID:59795f146b8f5b23f7ff1839@squarespace.com
DTSTAMP:20180904T032501Z
DTSTART:20181020T230000Z
DTEND:20181021T050000Z
SUMMARY:OMRC Grand Re-Opening
GEO:-40.766293;175.159786
LOCATION:Otaki-Maori Racing Club\, 47 Te Roto Road\, Otaki\, Wellington\, 5
 512\, New Zealand
END:VEVENT
END:VCALENDAR
