BEGIN:VCALENDAR
VERSION:2.0
PRODID:-//Squarespace Inc/Squarespace 6//v6//EN
BEGIN:VEVENT
UID:5b8dfb0df950b79a4ff09945@squarespace.com
DTSTAMP:20180910T011330Z
DTSTART:20181107T230000Z
DTEND:20181108T050000Z
SUMMARY:OMRC Race Day | 8 November 2018
GEO:-40.766293;175.159786
LOCATION:Otaki-Maori Racing Club\, 47 Te Roto Road\, Otaki\, Wellington\, 5
 512\, New Zealand
END:VEVENT
END:VCALENDAR
