BEGIN:VCALENDAR
VERSION:2.0
PRODID:-//Squarespace Inc/Squarespace 6//v6//EN
BEGIN:VEVENT
UID:5b8dfb600ebbe8ab9f0e2d06@squarespace.com
DTSTAMP:20181106T041117Z
DTSTART:20190106T230000Z
DTEND:20190107T050000Z
SUMMARY:OMRC Race Day | 7 January 2019
GEO:-40.766293;175.159786
LOCATION:Otaki-Maori Racing Club\, 47 Te Roto Road\, Otaki\, Wellington\, 5
 512\, New Zealand
END:VEVENT
END:VCALENDAR
